BEGIN:VCALENDAR
VERSION:2.0
PRODID:-//Team Tony Cancer Foundation - ECPv6.15.20//NONSGML v1.0//EN
CALSCALE:GREGORIAN
METHOD:PUBLISH
X-ORIGINAL-URL:https://teamtony.org
X-WR-CALDESC:Events for Team Tony Cancer Foundation
REFRESH-INTERVAL;VALUE=DURATION:PT1H
X-Robots-Tag:noindex
X-PUBLISHED-TTL:PT1H
BEGIN:VTIMEZONE
TZID:America/New_York
BEGIN:DAYLIGHT
TZOFFSETFROM:-0500
TZOFFSETTO:-0400
TZNAME:EDT
DTSTART:20230312T070000
END:DAYLIGHT
BEGIN:STANDARD
TZOFFSETFROM:-0400
TZOFFSETTO:-0500
TZNAME:EST
DTSTART:20231105T060000
END:STANDARD
BEGIN:DAYLIGHT
TZOFFSETFROM:-0500
TZOFFSETTO:-0400
TZNAME:EDT
DTSTART:20240310T070000
END:DAYLIGHT
BEGIN:STANDARD
TZOFFSETFROM:-0400
TZOFFSETTO:-0500
TZNAME:EST
DTSTART:20241103T060000
END:STANDARD
BEGIN:DAYLIGHT
TZOFFSETFROM:-0500
TZOFFSETTO:-0400
TZNAME:EDT
DTSTART:20250309T070000
END:DAYLIGHT
BEGIN:STANDARD
TZOFFSETFROM:-0400
TZOFFSETTO:-0500
TZNAME:EST
DTSTART:20251102T060000
END:STANDARD
END:VTIMEZONE
BEGIN:VEVENT
DTSTART;TZID=America/New_York:20241019T093000
DTEND;TZID=America/New_York:20241019T113000
DTSTAMP:20260422T224338
CREATED:20240102T181418Z
LAST-MODIFIED:20240920T131503Z
UID:2697-1729330200-1729337400@teamtony.org
SUMMARY:2024 Lifestyle Wellness Series: Community Meditation
DESCRIPTION:Join us for our next Team Tony Community Meditation led by LeeAnne Moody! Experience a pure\, simple and easily facilitated process of utilizing various meditation and grounding exercises to not only calm you but also facilitate a multidimensional harmonizing effect! \nDoors open at 9:30am and the meditation begins PROMPTLY at 10am. \nPlease RSVP to kelly@teamtony.org
URL:https://teamtony.org/event/2024-lifestyle-wellness-series-community-meditation-5/
LOCATION:Team Tony Cancer Connection Center\, 3562 S OSPREY AVE\, SARASOTA\, FL\, 34239\, United States
ORGANIZER;CN="Team Tony Cancer Foundation":MAILTO:info@teamtony.org
END:VEVENT
END:VCALENDAR