BEGIN:VCALENDAR
VERSION:2.0
PRODID:-//Team Tony Cancer Foundation - ECPv6.15.20//NONSGML v1.0//EN
CALSCALE:GREGORIAN
METHOD:PUBLISH
X-ORIGINAL-URL:https://teamtony.org
X-WR-CALDESC:Events for Team Tony Cancer Foundation
REFRESH-INTERVAL;VALUE=DURATION:PT1H
X-Robots-Tag:noindex
X-PUBLISHED-TTL:PT1H
BEGIN:VTIMEZONE
TZID:America/New_York
BEGIN:DAYLIGHT
TZOFFSETFROM:-0500
TZOFFSETTO:-0400
TZNAME:EDT
DTSTART:20240310T070000
END:DAYLIGHT
BEGIN:STANDARD
TZOFFSETFROM:-0400
TZOFFSETTO:-0500
TZNAME:EST
DTSTART:20241103T060000
END:STANDARD
BEGIN:DAYLIGHT
TZOFFSETFROM:-0500
TZOFFSETTO:-0400
TZNAME:EDT
DTSTART:20250309T070000
END:DAYLIGHT
BEGIN:STANDARD
TZOFFSETFROM:-0400
TZOFFSETTO:-0500
TZNAME:EST
DTSTART:20251102T060000
END:STANDARD
BEGIN:DAYLIGHT
TZOFFSETFROM:-0500
TZOFFSETTO:-0400
TZNAME:EDT
DTSTART:20260308T070000
END:DAYLIGHT
BEGIN:STANDARD
TZOFFSETFROM:-0400
TZOFFSETTO:-0500
TZNAME:EST
DTSTART:20261101T060000
END:STANDARD
END:VTIMEZONE
BEGIN:VEVENT
DTSTART;TZID=America/New_York:20250318T133000
DTEND;TZID=America/New_York:20250318T150000
DTSTAMP:20260422T100716
CREATED:20241231T155155Z
LAST-MODIFIED:20241231T155155Z
UID:3020-1742304600-1742310000@teamtony.org
SUMMARY:Team Tony Lifestyle Wellness Series: Feel It! Write It!
DESCRIPTION:Join us for this hands-on writing workshop with simple exercises to stimulate responses to express feelings\, memories and experience facilitated by Ronni Miller\, founder and developer of the nationally known Write It Out® program.  This pilot workshop will whet your appetite to continue to write to heal as Miller is experienced working with people impacted by cancer. \nThis event is a hybrid event offered at our Team Tony Cancer Connection Center and via Zoom. \nRSVP by March 14th to kelly@teamtony.org or (941) 227-4404
URL:https://teamtony.org/event/team-tony-lifestyle-wellness-series-feel-it-write-it/
LOCATION:Team Tony Cancer Connection Center\, 3562 S OSPREY AVE\, SARASOTA\, FL\, 34239\, United States
ORGANIZER;CN="Team Tony Cancer Foundation":MAILTO:info@teamtony.org
END:VEVENT
END:VCALENDAR