BEGIN:VCALENDAR
VERSION:2.0
PRODID:-//Team Tony Cancer Foundation - ECPv6.15.20//NONSGML v1.0//EN
CALSCALE:GREGORIAN
METHOD:PUBLISH
X-ORIGINAL-URL:https://teamtony.org
X-WR-CALDESC:Events for Team Tony Cancer Foundation
REFRESH-INTERVAL;VALUE=DURATION:PT1H
X-Robots-Tag:noindex
X-PUBLISHED-TTL:PT1H
BEGIN:VTIMEZONE
TZID:America/New_York
BEGIN:DAYLIGHT
TZOFFSETFROM:-0500
TZOFFSETTO:-0400
TZNAME:EDT
DTSTART:20240310T070000
END:DAYLIGHT
BEGIN:STANDARD
TZOFFSETFROM:-0400
TZOFFSETTO:-0500
TZNAME:EST
DTSTART:20241103T060000
END:STANDARD
BEGIN:DAYLIGHT
TZOFFSETFROM:-0500
TZOFFSETTO:-0400
TZNAME:EDT
DTSTART:20250309T070000
END:DAYLIGHT
BEGIN:STANDARD
TZOFFSETFROM:-0400
TZOFFSETTO:-0500
TZNAME:EST
DTSTART:20251102T060000
END:STANDARD
BEGIN:DAYLIGHT
TZOFFSETFROM:-0500
TZOFFSETTO:-0400
TZNAME:EDT
DTSTART:20260308T070000
END:DAYLIGHT
BEGIN:STANDARD
TZOFFSETFROM:-0400
TZOFFSETTO:-0500
TZNAME:EST
DTSTART:20261101T060000
END:STANDARD
END:VTIMEZONE
BEGIN:VEVENT
DTSTART;TZID=America/New_York:20250506T120000
DTEND;TZID=America/New_York:20250506T130000
DTSTAMP:20260422T063612
CREATED:20250424T203956Z
LAST-MODIFIED:20250424T203956Z
UID:3087-1746532800-1746536400@teamtony.org
SUMMARY:TT Lifestyle Wellness Series: Ultimate Health Optimization with Dr. Brian Lawenda
DESCRIPTION:Did you know that there are 23 Assessments Everyone Should Know\, Track\, and Optimize to Reduce Disease Risk\, Stay Sharp\, and Live Long and Strong?? Mark your calendars and make plans to join us on May 6th as Dr. Brian Lawenda\, a Harvard/MGH-trained radiation oncologist and expert in integrative oncology\, joins us for an enlightening talk on the 23 health assessments everyone should know to optimize their health and live long and strong!\n\n\n\nThis session is offered as a Hybrid event – both in person at our Cancer Connection Center and via Zoom.\n\nRSVP to kelly@teamtony.org
URL:https://teamtony.org/event/tt-lifestyle-wellness-series-ultimate-health-optimization-with-dr-brian-lawenda/
LOCATION:Team Tony Cancer Connection Center\, 3562 S OSPREY AVE\, SARASOTA\, FL\, 34239\, United States
ORGANIZER;CN="Team Tony Cancer Foundation":MAILTO:info@teamtony.org
END:VEVENT
END:VCALENDAR