BEGIN:VCALENDAR
VERSION:2.0
PRODID:-//Team Tony Cancer Foundation - ECPv6.15.20//NONSGML v1.0//EN
CALSCALE:GREGORIAN
METHOD:PUBLISH
X-ORIGINAL-URL:https://teamtony.org
X-WR-CALDESC:Events for Team Tony Cancer Foundation
REFRESH-INTERVAL;VALUE=DURATION:PT1H
X-Robots-Tag:noindex
X-PUBLISHED-TTL:PT1H
BEGIN:VTIMEZONE
TZID:America/New_York
BEGIN:DAYLIGHT
TZOFFSETFROM:-0500
TZOFFSETTO:-0400
TZNAME:EDT
DTSTART:20240310T070000
END:DAYLIGHT
BEGIN:STANDARD
TZOFFSETFROM:-0400
TZOFFSETTO:-0500
TZNAME:EST
DTSTART:20241103T060000
END:STANDARD
BEGIN:DAYLIGHT
TZOFFSETFROM:-0500
TZOFFSETTO:-0400
TZNAME:EDT
DTSTART:20250309T070000
END:DAYLIGHT
BEGIN:STANDARD
TZOFFSETFROM:-0400
TZOFFSETTO:-0500
TZNAME:EST
DTSTART:20251102T060000
END:STANDARD
BEGIN:DAYLIGHT
TZOFFSETFROM:-0500
TZOFFSETTO:-0400
TZNAME:EDT
DTSTART:20260308T070000
END:DAYLIGHT
BEGIN:STANDARD
TZOFFSETFROM:-0400
TZOFFSETTO:-0500
TZNAME:EST
DTSTART:20261101T060000
END:STANDARD
END:VTIMEZONE
BEGIN:VEVENT
DTSTART;TZID=America/New_York:20251106T170000
DTEND;TZID=America/New_York:20251106T180000
DTSTAMP:20260419T203859
CREATED:20250812T151119Z
LAST-MODIFIED:20250812T151217Z
UID:3194-1762448400-1762452000@teamtony.org
SUMMARY:Team Tony Lifestyle Wellness Series: "Caring for the Caregiver"
DESCRIPTION:If you\, or someone you know\, is a caregiver for someone going through cancer\, we invite you to join us Thursday\, November 6th from 5:00 to 6:00pm for a special Team Tony Lifestyle Wellness Session: Caring for the Caregiver. This session\, led by Kelly Garrett of Tidewell\, will help caregivers create balance and offer tools for practicing self-care.\n.\nTo RSVP\, please email kelly@teamtony.org or call (941) 227-4404 by November 3rd.
URL:https://teamtony.org/event/team-tony-lifestyle-wellness-series-caring-for-the-caregiver/
LOCATION:Team Tony Cancer Connection Center\, 3562 S OSPREY AVE\, SARASOTA\, FL\, 34239\, United States
ATTACH;FMTTYPE=image/png:https://teamtony.org/wp-content/uploads/2025-Caring-for-the-Caregiver.png
ORGANIZER;CN="Team Tony Cancer Foundation":MAILTO:info@teamtony.org
END:VEVENT
END:VCALENDAR