BEGIN:VCALENDAR
VERSION:2.0
PRODID:-//Team Tony Cancer Foundation - ECPv6.15.20//NONSGML v1.0//EN
CALSCALE:GREGORIAN
METHOD:PUBLISH
X-ORIGINAL-URL:https://teamtony.org
X-WR-CALDESC:Events for Team Tony Cancer Foundation
REFRESH-INTERVAL;VALUE=DURATION:PT1H
X-Robots-Tag:noindex
X-PUBLISHED-TTL:PT1H
BEGIN:VTIMEZONE
TZID:America/New_York
BEGIN:DAYLIGHT
TZOFFSETFROM:-0500
TZOFFSETTO:-0400
TZNAME:EDT
DTSTART:20250309T070000
END:DAYLIGHT
BEGIN:STANDARD
TZOFFSETFROM:-0400
TZOFFSETTO:-0500
TZNAME:EST
DTSTART:20251102T060000
END:STANDARD
BEGIN:DAYLIGHT
TZOFFSETFROM:-0500
TZOFFSETTO:-0400
TZNAME:EDT
DTSTART:20260308T070000
END:DAYLIGHT
BEGIN:STANDARD
TZOFFSETFROM:-0400
TZOFFSETTO:-0500
TZNAME:EST
DTSTART:20261101T060000
END:STANDARD
BEGIN:DAYLIGHT
TZOFFSETFROM:-0500
TZOFFSETTO:-0400
TZNAME:EDT
DTSTART:20270314T070000
END:DAYLIGHT
BEGIN:STANDARD
TZOFFSETFROM:-0400
TZOFFSETTO:-0500
TZNAME:EST
DTSTART:20271107T060000
END:STANDARD
END:VTIMEZONE
BEGIN:VEVENT
DTSTART;TZID=America/New_York:20260219T110000
DTEND;TZID=America/New_York:20260219T120000
DTSTAMP:20260419T153804
CREATED:20241231T154915Z
LAST-MODIFIED:20260212T204658Z
UID:3017-1771498800-1771502400@teamtony.org
SUMMARY:Team Tony Lifestyle Wellness Series: The Healing Plate - Evidence-Based Nutrition Strategies for Cancer Support
DESCRIPTION:Join Ashley McIntyre\, CNS\, LDN\, for an engaging and informative session on the powerful role of nutrition throughout the cancer journey. Discover the four essential dietary strategies that can support both prevention and treatment—including building a balanced plate\, optimizing gut health\, ensuring adequate protein\, and staying well-hydrated. Ashley will also share how her Elevated Plate Method can help stabilize blood sugar\, strengthen the immune system\, and reduce inflammation. You’ll leave with clear\, practical tools to protect your cells\, promote healing\, and feel empowered to take an active role in your health. \nRSVP by February 17th to kelly@teamtony.org or (941) 227-4404
URL:https://teamtony.org/event/team-tony-lifestyle-wellness-series-the-healing-plate/
LOCATION:Team Tony Cancer Connection Center\, 3562 S OSPREY AVE\, SARASOTA\, FL\, 34239\, United States
ATTACH;FMTTYPE=image/png:https://teamtony.org/wp-content/uploads/The-Healing-Plate-Feb-2026-1.png
ORGANIZER;CN="Team Tony Cancer Foundation":MAILTO:info@teamtony.org
END:VEVENT
END:VCALENDAR