BEGIN:VCALENDAR
VERSION:2.0
PRODID:-//Team Tony Cancer Foundation - ECPv6.15.20//NONSGML v1.0//EN
CALSCALE:GREGORIAN
METHOD:PUBLISH
X-ORIGINAL-URL:https://teamtony.org
X-WR-CALDESC:Events for Team Tony Cancer Foundation
REFRESH-INTERVAL;VALUE=DURATION:PT1H
X-Robots-Tag:noindex
X-PUBLISHED-TTL:PT1H
BEGIN:VTIMEZONE
TZID:America/New_York
BEGIN:DAYLIGHT
TZOFFSETFROM:-0500
TZOFFSETTO:-0400
TZNAME:EDT
DTSTART:20240310T070000
END:DAYLIGHT
BEGIN:STANDARD
TZOFFSETFROM:-0400
TZOFFSETTO:-0500
TZNAME:EST
DTSTART:20241103T060000
END:STANDARD
BEGIN:DAYLIGHT
TZOFFSETFROM:-0500
TZOFFSETTO:-0400
TZNAME:EDT
DTSTART:20250309T070000
END:DAYLIGHT
BEGIN:STANDARD
TZOFFSETFROM:-0400
TZOFFSETTO:-0500
TZNAME:EST
DTSTART:20251102T060000
END:STANDARD
BEGIN:DAYLIGHT
TZOFFSETFROM:-0500
TZOFFSETTO:-0400
TZNAME:EDT
DTSTART:20260308T070000
END:DAYLIGHT
BEGIN:STANDARD
TZOFFSETFROM:-0400
TZOFFSETTO:-0500
TZNAME:EST
DTSTART:20261101T060000
END:STANDARD
BEGIN:DAYLIGHT
TZOFFSETFROM:-0500
TZOFFSETTO:-0400
TZNAME:EDT
DTSTART:20270314T070000
END:DAYLIGHT
BEGIN:STANDARD
TZOFFSETFROM:-0400
TZOFFSETTO:-0500
TZNAME:EST
DTSTART:20271107T060000
END:STANDARD
END:VTIMEZONE
BEGIN:VEVENT
DTSTART;TZID=America/New_York:20251009T110000
DTEND;TZID=America/New_York:20251009T120000
DTSTAMP:20260420T032800
CREATED:20250903T152910Z
LAST-MODIFIED:20250903T152910Z
UID:3210-1760007600-1760011200@teamtony.org
SUMMARY:Team Tony Lifestyle Wellness Series: Living With Ease - How Planning Ahead Can Lighten Your Journey
DESCRIPTION:Join Jen Hensley of Hensley Law Offices as she shares practical and inspiring insights on how planning ahead—through tools like wills\, trusts\, and other resources—can lift a huge weight off your shoulders and give you the freedom to focus on healing and living fully. Her upbeat and approachable style makes even the toughest topics easier to understand\, so you’ll leave feeling more informed\, supported\, and empowered. \nThis event is a hybrid event held at our Cancer Connection Center (3562 S Osprey Ave\, Suite C\, Sarasota\, FL 34239) or via Zoom. \nRSVP to kelly@teamtony.org or (941) 227-4404 by October 7.
URL:https://teamtony.org/event/team-tony-lifestyle-wellness-series-living-with-ease-how-planning-ahead-can-lighten-your-journey/
LOCATION:Team Tony Cancer Connection Center\, 3562 S OSPREY AVE\, SARASOTA\, FL\, 34239\, United States
ATTACH;FMTTYPE=image/png:https://teamtony.org/wp-content/uploads/Jen-Hensley-Oct-2025-LWS.png
ORGANIZER;CN="Team Tony Cancer Foundation":MAILTO:info@teamtony.org
END:VEVENT
BEGIN:VEVENT
DTSTART;TZID=America/New_York:20251101T160000
DTEND;TZID=America/New_York:20251101T173000
DTSTAMP:20260420T032800
CREATED:20250812T145428Z
LAST-MODIFIED:20251101T123502Z
UID:3185-1762012800-1762018200@teamtony.org
SUMMARY:Runway of Hope to Benefit Team Tony Cancer Foundation
DESCRIPTION:Fashion meets compassion at the inaugural Runway of Hope\, a happy hour–style fashion show hosted by Darci’s Boutique and Sara Dance Center\, benefiting Team Tony Cancer Foundation. The fundraiser will take place on Saturday\, November 1st from 4:00 to 5:30pm at Sarasota Dance Center. \nThis stylish and spirited evening will feature local cancer survivors\, caregivers\, and community champions modeling looks from Darci’s Boutique—all to support Team Tony’s mission of providing free peer-to-peer support and resources to individuals impacted by cancer on Florida’s Suncoast. \nGuests will enjoy: \n\nA runway show featuring real-life cancer fighters and survivors\, as well as local influencers\nComplimentary champagne and sweet and savory lite bites\nLive entertainment\nA chance to support Team Tony through silent auction\, donations\, and community engagement\n\nProceeds from “Runway of Hope” will help fund Team Tony Cancer Foundation’s free peer-to-peer mentor program\, financial resources\, and wellness programming for cancer fighters\, survivors\, and caregivers.
URL:https://teamtony.org/event/runway-of-hope-to-benefit-team-tony-cancer-foundation/
LOCATION:Sara Dance Center\, 2821 Cattlemen Rd\, Sarasota\, FL\, 34232\, United States
ATTACH;FMTTYPE=image/jpeg:https://teamtony.org/wp-content/uploads/fashion-show-flyer.jpg
END:VEVENT
BEGIN:VEVENT
DTSTART;TZID=America/New_York:20251106T170000
DTEND;TZID=America/New_York:20251106T180000
DTSTAMP:20260420T032800
CREATED:20250812T151119Z
LAST-MODIFIED:20250812T151217Z
UID:3194-1762448400-1762452000@teamtony.org
SUMMARY:Team Tony Lifestyle Wellness Series: "Caring for the Caregiver"
DESCRIPTION:If you\, or someone you know\, is a caregiver for someone going through cancer\, we invite you to join us Thursday\, November 6th from 5:00 to 6:00pm for a special Team Tony Lifestyle Wellness Session: Caring for the Caregiver. This session\, led by Kelly Garrett of Tidewell\, will help caregivers create balance and offer tools for practicing self-care.\n.\nTo RSVP\, please email kelly@teamtony.org or call (941) 227-4404 by November 3rd.
URL:https://teamtony.org/event/team-tony-lifestyle-wellness-series-caring-for-the-caregiver/
LOCATION:Team Tony Cancer Connection Center\, 3562 S OSPREY AVE\, SARASOTA\, FL\, 34239\, United States
ATTACH;FMTTYPE=image/png:https://teamtony.org/wp-content/uploads/2025-Caring-for-the-Caregiver.png
ORGANIZER;CN="Team Tony Cancer Foundation":MAILTO:info@teamtony.org
END:VEVENT
BEGIN:VEVENT
DTSTART;TZID=America/New_York:20260113T110000
DTEND;TZID=America/New_York:20260113T123000
DTSTAMP:20260420T032800
CREATED:20251215T190433Z
LAST-MODIFIED:20251226T074416Z
UID:3306-1768302000-1768307400@teamtony.org
SUMMARY:2026 TeamTony Lifestyle Wellness Series: Dream Big\, Create Bigger: Vision Board Magic
DESCRIPTION:Kick off 2026 with intention and community. \nJoin us for our first Team Tony Lifestyle Wellness Session of 2026: a guided Vision Board Workshop designed to help you imagine what healing\, hope\, and purpose could look like in the months ahead. \nThis free session is open to everyone—cancer fighters\, caregivers\, survivors\, and community members. Whether you’re navigating a diagnosis\, supporting someone who is\, or simply seeking clarity and connection\, you’re welcome here. \nFree and open to all \nLet’s gather\, reflect\, and create something beautiful—together.
URL:https://teamtony.org/event/2026-teamtony-lifestyle-wellness-series-dream-big-create-bigger-vision-board-magic/
LOCATION:Team Tony Cancer Connection Center\, 3562 S OSPREY AVE\, SARASOTA\, FL\, 34239\, United States
ATTACH;FMTTYPE=image/jpeg:https://teamtony.org/wp-content/uploads/Vision-Board-Flyer_TT-1.13.2026-scaled-1-1.jpg
ORGANIZER;CN="Team Tony Cancer Foundation":MAILTO:info@teamtony.org
END:VEVENT
BEGIN:VEVENT
DTSTART;TZID=America/New_York:20260216T093000
DTEND;TZID=America/New_York:20260216T103000
DTSTAMP:20260420T032800
CREATED:20200225T175007Z
LAST-MODIFIED:20251215T185918Z
UID:1686-1771234200-1771237800@teamtony.org
SUMMARY:Team Tony Caregiver Coffee Connection
DESCRIPTION:Team Tony Cancer Foundation recognizes the impact a cancer diagnosis has on everyone – the patient\, their family and their friends. Caring for someone with cancer comes with various emotional\, physical and logistical challenges. While the caregiver is grateful to help and support the individual facing cancer\, he or she may experience emotional strain\, physical exhaustion\, financial stress\, isolation\, and impacts on mental health. \nEnsuring the caregiver gets the support they need is a focus of Team Tony Cancer Foundation. \nHeld on the 3rd Monday of each month\, our Caregiver Coffee Connection will be an opportunity for those caring for a cancer fighter to come together over a cup of coffee or tea and connect with others who understand the unique challenges of caregiving. \nRSVP kelly@teamtony.org or 941-227-4404.
URL:https://teamtony.org/event/team-tony-coffee-connection-2/
LOCATION:Team Tony Cancer Connection Center\, 3562 S OSPREY AVE\, SARASOTA\, FL\, 34239\, United States
ATTACH;FMTTYPE=image/jpeg:https://teamtony.org/wp-content/uploads/coffee.jpg
ORGANIZER;CN="Team Tony Cancer Foundation":MAILTO:info@teamtony.org
END:VEVENT
BEGIN:VEVENT
DTSTART;TZID=America/New_York:20260219T110000
DTEND;TZID=America/New_York:20260219T120000
DTSTAMP:20260420T032800
CREATED:20241231T154915Z
LAST-MODIFIED:20260212T204658Z
UID:3017-1771498800-1771502400@teamtony.org
SUMMARY:Team Tony Lifestyle Wellness Series: The Healing Plate - Evidence-Based Nutrition Strategies for Cancer Support
DESCRIPTION:Join Ashley McIntyre\, CNS\, LDN\, for an engaging and informative session on the powerful role of nutrition throughout the cancer journey. Discover the four essential dietary strategies that can support both prevention and treatment—including building a balanced plate\, optimizing gut health\, ensuring adequate protein\, and staying well-hydrated. Ashley will also share how her Elevated Plate Method can help stabilize blood sugar\, strengthen the immune system\, and reduce inflammation. You’ll leave with clear\, practical tools to protect your cells\, promote healing\, and feel empowered to take an active role in your health. \nRSVP by February 17th to kelly@teamtony.org or (941) 227-4404
URL:https://teamtony.org/event/team-tony-lifestyle-wellness-series-the-healing-plate/
LOCATION:Team Tony Cancer Connection Center\, 3562 S OSPREY AVE\, SARASOTA\, FL\, 34239\, United States
ATTACH;FMTTYPE=image/png:https://teamtony.org/wp-content/uploads/The-Healing-Plate-Feb-2026-1.png
ORGANIZER;CN="Team Tony Cancer Foundation":MAILTO:info@teamtony.org
END:VEVENT
BEGIN:VEVENT
DTSTART;TZID=America/New_York:20260307T183000
DTEND;TZID=America/New_York:20260307T230000
DTSTAMP:20260420T032800
CREATED:20240102T180349Z
LAST-MODIFIED:20250605T211853Z
UID:2684-1772908200-1772924400@teamtony.org
SUMMARY:9th Annual Jackets and Jeans Fundraiser
DESCRIPTION:Are you ready for another fun and hip evening benefiting the Team Tony Cancer Foundation?\nOur 9th Annual JACKETS and JEANS Party will feature entertainment by The Boomers Live the Sixties at Michael’s on East on Saturday\, March 7\, 2026\, from 6:30pm to whenever the band stops playing. The night will include creative cuisine\, music\, dancing\, silent and live auction packages\, and 300 guests thrilled to not be at another black-tie event.
URL:https://teamtony.org/event/9th-annual-jackets-and-jeans-fundraiser/
LOCATION:Michaels on East\, 1212 S East Ave\, Sarasota\, FL\, 34239\, United States
ATTACH;FMTTYPE=image/webp:https://teamtony.org/wp-content/uploads/JandJ-logo-new-green.webp
ORGANIZER;CN="Team Tony Cancer Foundation":MAILTO:info@teamtony.org
END:VEVENT
BEGIN:VEVENT
DTSTART;TZID=America/New_York:20260324T170000
DTEND;TZID=America/New_York:20260324T180000
DTSTAMP:20260420T032800
CREATED:20240711T155551Z
LAST-MODIFIED:20260130T155829Z
UID:2872-1774371600-1774375200@teamtony.org
SUMMARY:2026 Lifestyle Wellness Series: Healing Our Hearts\, a Conversation About Grief
DESCRIPTION:Grief is a universal human experience that affects us all. Join Team Tony and our friend\, Kelly Garrett of Tidewell\, as we discover the significance of rituals in honoring life to the journey of understanding grief as we navigate the essence of being present and listening to our loved ones. We delve into the various forms of grief and how they shape individual experiences\, emphasizing the importance of empathy and support. \nRSVP to kelly@teamtony.org
URL:https://teamtony.org/event/2026-lifestyle-wellness-series-healing-our-hearts-a-conversation-about-grief/
LOCATION:Team Tony Cancer Connection Center\, 3562 S OSPREY AVE\, SARASOTA\, FL\, 34239\, United States
ATTACH;FMTTYPE=image/png:https://teamtony.org/wp-content/uploads/2026-Healing-our-Hearts.png
ORGANIZER;CN="Team Tony Cancer Foundation":MAILTO:info@teamtony.org
END:VEVENT
BEGIN:VEVENT
DTSTART;TZID=America/New_York:20260407T090000
DTEND;TZID=America/New_York:20260407T100000
DTSTAMP:20260420T032800
CREATED:20251028T185958Z
LAST-MODIFIED:20260212T204819Z
UID:3255-1775552400-1775556000@teamtony.org
SUMMARY:Team Tony Community Open House
DESCRIPTION:We’re opening our doors to cancer fighters\, caregivers\, survivors and community members in our community! Come learn about our free peer-to-peer support program\, as well as the many programs and resources we offer. \nThis is YOUR space to ask questions\, connect with others who understand\, and find hope and strength in the power of community. \nLet’s come together\, share some laughs\, and continue the journey with love and support. \nRSVP to allison@teamtony.org
URL:https://teamtony.org/event/team-tony-community-open-house-2/
LOCATION:Team Tony Cancer Connection Center\, 3562 S OSPREY AVE\, SARASOTA\, FL\, 34239\, United States
ORGANIZER;CN="Team Tony Cancer Foundation":MAILTO:info@teamtony.org
END:VEVENT
BEGIN:VEVENT
DTSTART;TZID=America/New_York:20260413T100000
DTEND;TZID=America/New_York:20260413T120000
DTSTAMP:20260420T032800
CREATED:20250903T192009Z
LAST-MODIFIED:20260212T204956Z
UID:3214-1776074400-1776081600@teamtony.org
SUMMARY:Stitch\, Knit & Chat Group
DESCRIPTION:Stitch\, Knit & Chat is a group of cancer survivors and friends who get together to sew\, knit and quilt for Sarasota area cancer organizations or sometimes we just chat.  Come de-stress and socialize while knitting\, crocheting or sewing with others for others.  Materials provided or bring your own. \nMeets the second Monday of each month from 10:00am to noon at Team Tony Cancer Connection Center (3562 S Osprey Ave\, Suite C\, Sarasota FL 34239) or join via Zoom. \nFor more information\, please contact Dawn Moore at dawn@quiltmoore.com.
URL:https://teamtony.org/event/stitch-knit-chat-group/
LOCATION:Team Tony Cancer Connection Center\, 3562 S OSPREY AVE\, SARASOTA\, FL\, 34239\, United States
ATTACH;FMTTYPE=image/jpeg:https://teamtony.org/wp-content/uploads/stitch-n-chat.jpg
ORGANIZER;CN="Team Tony Cancer Foundation":MAILTO:info@teamtony.org
END:VEVENT
BEGIN:VEVENT
DTSTART;TZID=America/New_York:20260415T120000
DTEND;TZID=America/New_York:20260416T120000
DTSTAMP:20260420T032800
CREATED:20260123T192730Z
LAST-MODIFIED:20260123T192730Z
UID:3391-1776254400-1776340800@teamtony.org
SUMMARY:2026 Giving Challenge
DESCRIPTION:Double the match. Double the impact. One powerful day. \nThis April 15-16\, TeamTony Cancer Foundation is joining the Giving Challenge 2026—a 24-hour online giving event that unites nearly 700 nonprofits and thousands of community members across Sarasota\, Manatee\, Charlotte\, and DeSoto counties. \nOur goal: $20\,000 to support our Medical Assistance Program\, which helps cancer fighters cover the hidden costs of treatment—from transportation to medications and more. \nHere’s the incredible part:\n✅ Every gift up to $100 will be matched 1:1 by The Patterson Foundation\n✅ If we reach our $20\,000 goal\, an anonymous donor will match it again \nYour gift could be tripled—and your generosity will directly support cancer fighters here in our own backyard. \n📅 Noon to noon | April 15-16\n🔗 Donate Here \nLet’s show what’s possible when no one faces cancer alone.
URL:https://teamtony.org/event/2026-giving-challenge/
LOCATION:Team Tony Cancer Connection Center\, 3562 S OSPREY AVE\, SARASOTA\, FL\, 34239\, United States
ATTACH;FMTTYPE=image/png:https://teamtony.org/wp-content/uploads/official.png
ORGANIZER;CN="Team Tony Cancer Foundation":MAILTO:info@teamtony.org
END:VEVENT
BEGIN:VEVENT
DTSTART;TZID=America/New_York:20260416T120000
DTEND;TZID=America/New_York:20260416T133000
DTSTAMP:20260420T032800
CREATED:20250730T171251Z
LAST-MODIFIED:20260319T152307Z
UID:3174-1776340800-1776346200@teamtony.org
SUMMARY:Team Tony Lifestyle Wellness Series: "The Mind-Body Power of Resilience"
DESCRIPTION:When life changes after a cancer diagnosis\, the stress isn’t just physical—it lives in the mind and body\, too. \nThat’s why conversations about emotional resilience matter so much. \nJoin us for our Lifestyle Wellness Series as Kacee Picot\, Integrative Hypnotic Coach\, shares insights on The Mind-Body Power of Resilience and how simple mind-body techniques can help calm the nervous system\, reduce stress\, and support emotional balance. \nTogether\, we’ll explore practical ways to reconnect with inner strength and navigate life’s challenges with greater resilience. \nThis session is open to cancer fighters\, survivors\, caregivers\, and anyone seeking tools for well-being and healing.
URL:https://teamtony.org/event/team-tony-lifestyle-wellness-series-mind-body-power-of-resilience/
LOCATION:Team Tony Cancer Connection Center\, 3562 S OSPREY AVE\, SARASOTA\, FL\, 34239\, United States
ATTACH;FMTTYPE=image/png:https://teamtony.org/wp-content/uploads/Kacee-Picot-4.16.26.png
ORGANIZER;CN="Team Tony Cancer Foundation":MAILTO:info@teamtony.org
END:VEVENT
BEGIN:VEVENT
DTSTART;TZID=America/New_York:20260418T093000
DTEND;TZID=America/New_York:20260418T113000
DTSTAMP:20260420T032800
CREATED:20240102T181225Z
LAST-MODIFIED:20260407T142649Z
UID:2693-1776504600-1776511800@teamtony.org
SUMMARY:2026 Lifestyle Wellness Series: Community Meditation
DESCRIPTION:Join us as we gather for one of our favorite monthly traditions—Team Tony Community Meditation – led by LeeAnne Moody. \n\nIt’s a time to slow down\, breathe deep\, and share quiet connection with others who understand that wellness isn’t just about the body—it’s about the heart and mind\, too.\n\n\nWhether you’re a longtime friend or stepping into the Cancer Connection Center for the first time\, you’re welcome here. Bring your favorite blanket\, your curiosity\, and your whole self—just as you are.\n\nDoors open at 9:30am and the meditation begins promptly at 10:00am. \nPlease RSVP to kelly@teamtony.org
URL:https://teamtony.org/event/2026-lifestyle-wellness-series-community-meditation-3/
LOCATION:Team Tony Cancer Connection Center\, 3562 S OSPREY AVE\, SARASOTA\, FL\, 34239\, United States
ATTACH;FMTTYPE=image/png:https://teamtony.org/wp-content/uploads/Community-Meditation-2025.png
ORGANIZER;CN="Team Tony Cancer Foundation":MAILTO:info@teamtony.org
END:VEVENT
BEGIN:VEVENT
DTSTART;TZID=America/New_York:20260430T173000
DTEND;TZID=America/New_York:20260430T210000
DTSTAMP:20260420T032800
CREATED:20230123T172637Z
LAST-MODIFIED:20260319T144532Z
UID:2381-1777570200-1777582800@teamtony.org
SUMMARY:Team Tony Teammate Training Workshop
DESCRIPTION:You’ve been matched with a Support Seeker. Now what? On the one hand\, you’re happy that you can support someone through their cancer journey so they’re not alone. On the other hand\, you wonder if you have the skills to be a helpful\, supportive volunteer Teammate. This fun\, informative\, and educational training will help you gain confidence and support you in your role as a Team Tony Teammate. \nTraining presented by Lori Kayser\, Leadership/Cancer Coach and C.O.O\, Xperience\, LLC \nLori is Co-founder of Team Tony Cancer Foundation\, a Leadership Coach\, Cancer Coach\, and C.O.O. at Xperience\, LLC. She spent 20 years in corporate America\, 15 of those as a Financial Advisor. She felt a calling to change careers to coaching and supporting individuals through challenge after overcoming her own adversity. Lori shares\, “Through my journey with cancer\, twenty-one surgeries\, the paralysis of my left leg\, and managing chronic diseases\, I’ve been surrounded by love\, compassion\, and support. It’s the glue that helped me hold it all together and thrive in spite of the challenges. Team Tony Cancer Foundation and I are dedicated to helping others thrive in spite of cancer by providing support\, comfort\, education and sharing our life and experiences.” \nTo register for the training\, please go to https://teamtony.org/teammate-training-workshop/ and click on the register button. \n 
URL:https://teamtony.org/event/team-tony-teammate-training-workshop-3/
LOCATION:Team Tony Cancer Connection Center\, 3562 S OSPREY AVE\, SARASOTA\, FL\, 34239\, United States
ATTACH;FMTTYPE=image/png:https://teamtony.org/wp-content/uploads/peermentorpage-1.png
ORGANIZER;CN="Team Tony Cancer Foundation":MAILTO:info@teamtony.org
END:VEVENT
BEGIN:VEVENT
DTSTART;TZID=America/New_York:20260505T090000
DTEND;TZID=America/New_York:20260505T100000
DTSTAMP:20260420T032800
CREATED:20250604T192734Z
LAST-MODIFIED:20260319T150836Z
UID:3124-1777971600-1777975200@teamtony.org
SUMMARY:Team Tony Community Open House
DESCRIPTION:We’re opening our doors to cancer fighters\, caregivers\, survivors and community members in our community! Come learn about our free peer-to-peer support program\, as well as the many programs and resources we offer. \nThis is YOUR space to ask questions\, connect with others who understand\, and find hope and strength in the power of community. \nLet’s come together\, share some laughs\, and continue the journey with love and support. \nRSVP to allison@teamtony.org
URL:https://teamtony.org/event/team-tony-community-open-house/
LOCATION:Team Tony Cancer Connection Center\, 3562 S OSPREY AVE\, SARASOTA\, FL\, 34239\, United States
ATTACH;FMTTYPE=image/png:https://teamtony.org/wp-content/uploads/Team-Tony-Community-Open-House.png
ORGANIZER;CN="Team Tony Cancer Foundation":MAILTO:info@teamtony.org
END:VEVENT
BEGIN:VEVENT
DTSTART;TZID=America/New_York:20260511T100000
DTEND;TZID=America/New_York:20260511T120000
DTSTAMP:20260420T032800
CREATED:20251028T185755Z
LAST-MODIFIED:20260319T151705Z
UID:3253-1778493600-1778500800@teamtony.org
SUMMARY:Stitch\, Knit & Chat Group
DESCRIPTION:Stitch\, Knit & Chat is a group of cancer survivors and friends who get together to sew\, knit and quilt for Sarasota area cancer organizations or sometimes we just chat.  Come de-stress and socialize while knitting\, crocheting or sewing with others for others.  Materials provided or bring your own. \nMeets the second Monday of each month from 10:00am to noon at Team Tony Cancer Connection Center (3562 S Osprey Ave\, Suite C\, Sarasota FL 34239) or join via Zoom. \nFor more information\, please contact Dawn Moore at dawn@quiltmoore.com.
URL:https://teamtony.org/event/stitch-knit-chat-group-2/
LOCATION:Team Tony Cancer Connection Center\, 3562 S OSPREY AVE\, SARASOTA\, FL\, 34239\, United States
ATTACH;FMTTYPE=image/jpeg:https://teamtony.org/wp-content/uploads/stitch-n-chat.jpg
ORGANIZER;CN="Team Tony Cancer Foundation":MAILTO:info@teamtony.org
END:VEVENT
BEGIN:VEVENT
DTSTART;TZID=America/New_York:20260516T093000
DTEND;TZID=America/New_York:20260516T113000
DTSTAMP:20260420T032800
CREATED:20240102T181009Z
LAST-MODIFIED:20260319T152441Z
UID:2689-1778923800-1778931000@teamtony.org
SUMMARY:2026 Lifestyle Wellness Series: Community Meditation
DESCRIPTION:Join us as we gather for one of our favorite monthly traditions—Team Tony Community Meditation – led by LeeAnne Moody. \n\nIt’s a time to slow down\, breathe deep\, and share quiet connection with others who understand that wellness isn’t just about the body—it’s about the heart and mind\, too.\n\n\nWhether you’re a longtime friend or stepping into the Cancer Connection Center for the first time\, you’re welcome here. Bring your favorite blanket\, your curiosity\, and your whole self—just as you are.\n\nDoors open at 9:30am and the meditation begins promptly at 10:00am. \nPlease RSVP to kelly@teamtony.org
URL:https://teamtony.org/event/2026-lifestyle-wellness-series-community-meditation/
LOCATION:Team Tony Cancer Connection Center\, 3562 S OSPREY AVE\, SARASOTA\, FL\, 34239\, United States
ATTACH;FMTTYPE=image/png:https://teamtony.org/wp-content/uploads/Community-Meditation-2025.png
ORGANIZER;CN="Team Tony Cancer Foundation":MAILTO:info@teamtony.org
END:VEVENT
BEGIN:VEVENT
DTSTART;TZID=America/New_York:20260518T093000
DTEND;TZID=America/New_York:20260518T103000
DTSTAMP:20260420T032800
CREATED:20250213T160913Z
LAST-MODIFIED:20260319T151102Z
UID:3058-1779096600-1779100200@teamtony.org
SUMMARY:Team Tony Cancer Caregiver Coffee Connection
DESCRIPTION:Team Tony Cancer Foundation recognizes the impact a cancer diagnosis has on everyone – the patient\, their family and their friends. Caring for someone with cancer comes with various emotional\, physical and logistical challenges. While the caregiver is grateful to help and support the individual facing cancer\, he or she may experience emotional strain\, physical exhaustion\, financial stress\, isolation\, and impacts on mental health. \nEnsuring the caregiver gets the support they need is a focus of Team Tony Cancer Foundation. \nHeld on the 3rd Monday of each month\, our Caregiver Coffee Connection will be an opportunity for those caring for a cancer fighter to come together over a cup of coffee or tea and connect with others who understand the unique challenges of caregiving. \nRSVP kelly@teamtony.org or 941-227-4404.
URL:https://teamtony.org/event/team-tony-cancer-caregiver-coffee-connection/
LOCATION:Team Tony Cancer Connection Center\, 3562 S OSPREY AVE\, SARASOTA\, FL\, 34239\, United States
ATTACH;FMTTYPE=image/jpeg:https://teamtony.org/wp-content/uploads/coffee.jpg
ORGANIZER;CN="Team Tony Cancer Foundation":MAILTO:info@teamtony.org
END:VEVENT
BEGIN:VEVENT
DTSTART;TZID=America/New_York:20261122T060000
DTEND;TZID=America/New_York:20261122T140000
DTSTAMP:20260420T032800
CREATED:20220314T200339Z
LAST-MODIFIED:20251215T185747Z
UID:2190-1795327200-1795356000@teamtony.org
SUMMARY:9th Annual Gran Fondo Sarasota
DESCRIPTION:Join us for our 9th Annual Gran Fondo Sarasota!! \nJOIN US NOVEMBER 22nd AT THE FLORIDA FARM BUREAU PAVILION!! \nChoose from four different bike routes that range in distance from 5 miles to 100 miles. Join us after for an Epic Finish Line Party that will include music\, catered food\, and local vendors. \n\n6:00 am Registration/Check In Begins\, Breakfast Available\n7:00 am 2026 Gran Fondo Sarasota 100-mile Gran cyclists begin\n8:00 am 2026 Gran Fondo Sarasota 62-mile Medio cyclists begin\n9:00 am 2026 Gran Fondo Sarasota 33-mile Piccolo cyclists begin\n10:00 am 2026 Gran Fondo Sarasota 5-mile Cruiser Ride Cyclists begin\n11:00 am Lunch
URL:https://teamtony.org/event/9th-annual-gran-fondo-sarasota/
LOCATION:FL Farm Bureau Pavilion\, 7289 Palmer Blvd\, Sarasota\, FL\, 34240\, United States
ATTACH;FMTTYPE=image/png:https://teamtony.org/wp-content/uploads/gfsHorizontal.png
ORGANIZER;CN="Team Tony Cancer Foundation":MAILTO:info@teamtony.org
END:VEVENT
END:VCALENDAR