BEGIN:VCALENDAR
VERSION:2.0
PRODID:-//Team Tony Cancer Foundation - ECPv6.15.20//NONSGML v1.0//EN
CALSCALE:GREGORIAN
METHOD:PUBLISH
X-WR-CALNAME:Team Tony Cancer Foundation
X-ORIGINAL-URL:https://teamtony.org
X-WR-CALDESC:Events for Team Tony Cancer Foundation
REFRESH-INTERVAL;VALUE=DURATION:PT1H
X-Robots-Tag:noindex
X-PUBLISHED-TTL:PT1H
BEGIN:VTIMEZONE
TZID:America/New_York
BEGIN:DAYLIGHT
TZOFFSETFROM:-0500
TZOFFSETTO:-0400
TZNAME:EDT
DTSTART:20230312T070000
END:DAYLIGHT
BEGIN:STANDARD
TZOFFSETFROM:-0400
TZOFFSETTO:-0500
TZNAME:EST
DTSTART:20231105T060000
END:STANDARD
BEGIN:DAYLIGHT
TZOFFSETFROM:-0500
TZOFFSETTO:-0400
TZNAME:EDT
DTSTART:20240310T070000
END:DAYLIGHT
BEGIN:STANDARD
TZOFFSETFROM:-0400
TZOFFSETTO:-0500
TZNAME:EST
DTSTART:20241103T060000
END:STANDARD
BEGIN:DAYLIGHT
TZOFFSETFROM:-0500
TZOFFSETTO:-0400
TZNAME:EDT
DTSTART:20250309T070000
END:DAYLIGHT
BEGIN:STANDARD
TZOFFSETFROM:-0400
TZOFFSETTO:-0500
TZNAME:EST
DTSTART:20251102T060000
END:STANDARD
END:VTIMEZONE
BEGIN:VEVENT
DTSTART;TZID=America/New_York:20241105T183000
DTEND;TZID=America/New_York:20241105T203000
DTSTAMP:20260419T221042
CREATED:20240102T181330Z
LAST-MODIFIED:20240920T131543Z
UID:2695-1730831400-1730838600@teamtony.org
SUMMARY:2024 Lifestyle Wellness Series: Community Meditation
DESCRIPTION:Join us for our next Team Tony Community Meditation led by LeeAnne Moody! These community meditation sessions are a pure\, simple and easily facilitated process of utilizing various meditation and grounding exercises that not only calm you but also facilitate a multidimensional harmonizing effect! \nDoors open at 6:30pm and the meditation begins PROMPTLY at 7pm. \nPlease RSVP to kelly@teamtony.org
URL:https://teamtony.org/event/2024-lifestyle-wellness-series-community-meditation-4/
LOCATION:Team Tony Cancer Connection Center\, 3562 S OSPREY AVE\, SARASOTA\, FL\, 34239\, United States
ORGANIZER;CN="Team Tony Cancer Foundation":MAILTO:info@teamtony.org
END:VEVENT
BEGIN:VEVENT
DTSTART;TZID=America/New_York:20241019T093000
DTEND;TZID=America/New_York:20241019T113000
DTSTAMP:20260419T221042
CREATED:20240102T181418Z
LAST-MODIFIED:20240920T131503Z
UID:2697-1729330200-1729337400@teamtony.org
SUMMARY:2024 Lifestyle Wellness Series: Community Meditation
DESCRIPTION:Join us for our next Team Tony Community Meditation led by LeeAnne Moody! Experience a pure\, simple and easily facilitated process of utilizing various meditation and grounding exercises to not only calm you but also facilitate a multidimensional harmonizing effect! \nDoors open at 9:30am and the meditation begins PROMPTLY at 10am. \nPlease RSVP to kelly@teamtony.org
URL:https://teamtony.org/event/2024-lifestyle-wellness-series-community-meditation-5/
LOCATION:Team Tony Cancer Connection Center\, 3562 S OSPREY AVE\, SARASOTA\, FL\, 34239\, United States
ORGANIZER;CN="Team Tony Cancer Foundation":MAILTO:info@teamtony.org
END:VEVENT
BEGIN:VEVENT
DTSTART;TZID=America/New_York:20241003T120000
DTEND;TZID=America/New_York:20241003T130000
DTSTAMP:20260419T221042
CREATED:20240711T154718Z
LAST-MODIFIED:20240711T154718Z
UID:2869-1727956800-1727960400@teamtony.org
SUMMARY:2024 Lifestyle Wellness Series: Maintaining Optimal Health and Reducing the Risk of Cancer
DESCRIPTION:Join Dr. Brian Lawenda\, a Harvard/MGH-trained radiation oncologist and expert in integrative oncology\, for an enlightening talk on “Health Optimization for Cancer Prevention.” Discover the latest insights on how lifestyle modifications\, including nutrition\, exercise\, and stress management\, can significantly reduce your risk of cancer. Learn about the importance of early intervention\, the role of inflammation and free radicals in cancer development\, and practical tips for managing precancerous conditions. Dr. Lawenda will also discuss the impact of chronic viral infections\, carcinogens\, and endocrine disruptors\, providing actionable strategies to minimize exposure and enhance overall health. \nDon’t miss this opportunity to empower yourself with knowledge and tools to optimize your well-being and prevent cancer. Join us to take proactive steps towards a healthier future. \nRSVP to kelly@teamtony.org
URL:https://teamtony.org/event/2024-lifestyle-wellness-series-maintaining-optimal-health-and-reducing-the-risk-of-cancer/
LOCATION:Team Tony Cancer Connection Center\, 3562 S OSPREY AVE\, SARASOTA\, FL\, 34239\, United States
ORGANIZER;CN="Team Tony Cancer Foundation":MAILTO:info@teamtony.org
END:VEVENT
BEGIN:VEVENT
DTSTART;TZID=America/New_York:20241001T183000
DTEND;TZID=America/New_York:20241001T203000
DTSTAMP:20260419T221042
CREATED:20240102T180716Z
LAST-MODIFIED:20240715T192556Z
UID:2686-1727807400-1727814600@teamtony.org
SUMMARY:2024 Lifestyle Wellness Series: Community Meditation at Team Tony
DESCRIPTION:Make plans to join us again for our Team Tony Community meditation led by LeeAnne Moody! This session will be a pure\, simple and easily facilitated process of utilizing various meditation and grounding exercises to not only calm you but also facilitate a multidimensional harmonizing effect! \nDoors open at 6:30pm and the meditation begins promptly at 7:00pm. \nRSVP to kelly@teamtony.org
URL:https://teamtony.org/event/2024-lifestyle-wellness-series-community-meditation-at-team-tony/
LOCATION:Team Tony Cancer Connection Center\, 3562 S OSPREY AVE\, SARASOTA\, FL\, 34239\, United States
ORGANIZER;CN="Team Tony Cancer Foundation":MAILTO:info@teamtony.org
END:VEVENT
BEGIN:VEVENT
DTSTART;TZID=America/New_York:20240905T113000
DTEND;TZID=America/New_York:20240905T123000
DTSTAMP:20260419T221042
CREATED:20240102T181653Z
LAST-MODIFIED:20240724T183528Z
UID:2699-1725535800-1725539400@teamtony.org
SUMMARY:2024 Lifestyle Wellness Series: Tides of Transition
DESCRIPTION:Join us for a presentation focused on the whole person philosophy of mind/body/spirit wellness. This presentation will emphasize the importance of recognizing physical body changes\, mental/emotional components of grief/loss and the healing process\, and the important connection between humans and nature. We will also offer practical examples of self-care for each component of wellness and highlight professional services if available in the community. \nJoin us as Dr. Stephanie Minter of  Re3 Innovative Neuroscience Institute presents this special session on wellness. \nPlease RSVP to kelly@teamtony.org
URL:https://teamtony.org/event/2024-lifestyle-wellness-series-tides-of-transition/
LOCATION:Team Tony Cancer Connection Center\, 3562 S OSPREY AVE\, SARASOTA\, FL\, 34239\, United States
ORGANIZER;CN="Team Tony Cancer Foundation":MAILTO:info@teamtony.org
END:VEVENT
BEGIN:VEVENT
DTSTART;TZID=America/New_York:20240903T183000
DTEND;TZID=America/New_York:20240903T203000
DTSTAMP:20260419T221042
CREATED:20240102T181113Z
LAST-MODIFIED:20240715T192836Z
UID:2691-1725388200-1725395400@teamtony.org
SUMMARY:2024 Lifestyle Wellness Series: Community Meditation
DESCRIPTION:Join us for our next session of Team Tony group meditations led by LeeAnne Moody! These sessions are a pure\, simple and easily facilitated process of utilizing various meditation and grounding exercises to not only calm you but also facilitate a multidimensional harmonizing effect! \nDoors open at 6:30pm and the meditation begins promptly at 7:00pm. \nPlease RSVP to kelly@teamtony.org
URL:https://teamtony.org/event/2024-lifestyle-wellness-series-community-meditation-2/
LOCATION:Team Tony Cancer Connection Center\, 3562 S OSPREY AVE\, SARASOTA\, FL\, 34239\, United States
ORGANIZER;CN="Team Tony Cancer Foundation":MAILTO:info@teamtony.org
END:VEVENT
BEGIN:VEVENT
DTSTART;TZID=America/New_York:20240820T123000
DTEND;TZID=America/New_York:20240820T133000
DTSTAMP:20260419T221042
CREATED:20240102T181755Z
LAST-MODIFIED:20240719T200651Z
UID:2702-1724157000-1724160600@teamtony.org
SUMMARY:2024 Lifestyle Wellness Series: Laughter Yoga
DESCRIPTION:Did you know that as children we laugh over 300 times a day but as adults we laugh only 30 times a day? Scientific studies indicate that laughter may have medically beneficial effects\, particularly to cardiovascular health and mood. Laughter Wellness is a practice involving prolonged voluntary laughter. It is based on the belief that voluntary laughter provides the same physiological and psychological benefits as spontaneous laughter. You won’t want to miss this hysterical experience that will heighten your awareness of the therapeutic and restorative values of joy and laughter. \nJoin us as Kelly Garrett of Tidewell Health presents this special session on Laughter Wellness. \nPlease RSVP to kelly@teamtony.org
URL:https://teamtony.org/event/2024-lifestyle-wellness-series-laughter-yoga/
LOCATION:Team Tony Cancer Connection Center\, 3562 S OSPREY AVE\, SARASOTA\, FL\, 34239\, United States
ORGANIZER;CN="Team Tony Cancer Foundation":MAILTO:info@teamtony.org
END:VEVENT
BEGIN:VEVENT
DTSTART;TZID=America/New_York:20240728T120000
DTEND;TZID=America/New_York:20240728T170000
DTSTAMP:20260419T221042
CREATED:20240611T160226Z
LAST-MODIFIED:20240611T160226Z
UID:2844-1722168000-1722186000@teamtony.org
SUMMARY:SRQ Women's Expo
DESCRIPTION:Bringing together and celebrating local women and businesses\, the SRQ Women’s Expo provides opportunities to learn\, grow and relax! \nTeam Tony is proud to be a beneficiary of this year’s SRQ Women’s Expo being held on Sunday\, July 28th from noon to 5pm at The Ritz Carlton Sarasota. \nTickets start at just $10! \nItinerary: \n\n\n11:30am: Doors are open to attendees.\n\n\n12:30pm: 2 minute commercial begins on stage.\n\n\n1:00pm: Fashion Show Begins.\n\n\n2:00 pm: Panel discussion starts and lunch will be served.\n\n\n3:00 pm: Attendees can enjoy their services throughout the expo floor.\n\n\n5:00 pm Raffle winner will be announced.\n\n\nAges: Open to all ages and genders.\n\n\nWorkshops will be happening throughout the day.\nFor more information\, or to purchase tickets\, please visit the SRQ Women’s Expo website here.
URL:https://teamtony.org/event/srq-womens-expo/
LOCATION:The Ritz Carlton Sarasota\, 1111 Ritz Carlton Dr\, Sarasota\, 34236\, United States
END:VEVENT
BEGIN:VEVENT
DTSTART;TZID=America/New_York:20240717T180000
DTEND;TZID=America/New_York:20240717T210000
DTSTAMP:20260419T221042
CREATED:20240613T154812Z
LAST-MODIFIED:20240613T154915Z
UID:2852-1721239200-1721250000@teamtony.org
SUMMARY:Guest Bartender Night at Farfelu Wine & Cheese Cafe benefiting Team Tony
DESCRIPTION:Make plans to join us on July 17th at Farfelu Wine & Cheese Cafe in Venice! Our friends from Grand Living at Wellen Park (along with our Executive Director\, Kelly Deam)\, will be participating in a Guest Bartender event benefiting Team Tony!\n\n\nThe evening will include music\, food and a fantastic auction!\n\n\n\n\nFor more information\, visit the website here: https://guestbartender.org/events/qbvf89
URL:https://teamtony.org/event/guest-bartender-night-at-farfelu-wine-cheese-cafe-benefiting-team-tony/
LOCATION:Farfelu Wine & Cheese Cafe\, 266 Tamiami Trail South\, Venice\, FL\, 34285\, United States
END:VEVENT
BEGIN:VEVENT
DTSTART;TZID=America/New_York:20240611T160000
DTEND;TZID=America/New_York:20240611T210000
DTSTAMP:20260419T221042
CREATED:20230418T161106Z
LAST-MODIFIED:20240611T154154Z
UID:2458-1718121600-1718139600@teamtony.org
SUMMARY:99 Bottles Give Back Night with Team Tony
DESCRIPTION:With the goal of raising money for various charitable organizations in the Sarasota community\, 99 Bottles is proud to host “Give Back Nights”!!!\nOn select evenings\, a percentage of 99 Bottles sales will go straight to a chosen charity!\n— This includes both dine in guests and guests who prefer to order to go…\n… Stay for a beer\, a glass of wine\, or a pizza\n… Grab some food and a four-pack of cans to go\nAny which way\, you are helping to raise money for a worthy local organization!\nOn Tuesday\, June 11th\, from 4pm-9pm\, a percentage of all sales at 99 Bottles will be going to TEAM TONY CANCER FOUNDATION!\nPlease help us to spread the word to bring people to the bar on Sunday and raise as much money as possible!\nMake a plan\,\nBring a friend\,\nCome hungry\, come thirsty\,\nAnd\, please share with your friends!
URL:https://teamtony.org/event/99-bottles-give-back-night-with-team-tony/
LOCATION:99 Bottles Sarasota\, 1445 2nd Street\, Sarasota\, FL\, 34236\, United States
ORGANIZER;CN="Team Tony Cancer Foundation":MAILTO:info@teamtony.org
END:VEVENT
BEGIN:VEVENT
DTSTART;TZID=America/New_York:20240428T070000
DTEND;TZID=America/New_York:20240428T130000
DTSTAMP:20260419T221042
CREATED:20220310T202425Z
LAST-MODIFIED:20240320T142411Z
UID:2180-1714287600-1714309200@teamtony.org
SUMMARY:Sharky's Ride the Beaches
DESCRIPTION:Sharky’s 20th Annual Ride the Beaches is scheduled for Sunday\, April 28th! This awesome ride\, organized by our great friends at Sharky’s On the Pier benefits the Team Tony Cancer Foundation\, Livestrong Foundation and Friends of the Legacy Trail. Choose from 15\, 35 or 70 miles and enjoy breakfast and lunch provided by Sharky’s on the Pier. \nDon’t ride but want to volunteer to help out that day?  Contact our Team Tony Development Assistant\, Iris Starr\, at iris@teamtony.org to sign up!
URL:https://teamtony.org/event/sharkys-ride-the-beaches/
LOCATION:Sharky’s on the Pier\, 1600 Harbor Dr S\, Venice\, FL\, 34285\, United States
ORGANIZER;CN="Team Tony Cancer Foundation":MAILTO:info@teamtony.org
END:VEVENT
END:VCALENDAR