BEGIN:VCALENDAR
VERSION:2.0
PRODID:-//Team Tony Cancer Foundation - ECPv6.15.20//NONSGML v1.0//EN
CALSCALE:GREGORIAN
METHOD:PUBLISH
X-WR-CALNAME:Team Tony Cancer Foundation
X-ORIGINAL-URL:https://teamtony.org
X-WR-CALDESC:Events for Team Tony Cancer Foundation
REFRESH-INTERVAL;VALUE=DURATION:PT1H
X-Robots-Tag:noindex
X-PUBLISHED-TTL:PT1H
BEGIN:VTIMEZONE
TZID:America/New_York
BEGIN:DAYLIGHT
TZOFFSETFROM:-0500
TZOFFSETTO:-0400
TZNAME:EDT
DTSTART:20250309T070000
END:DAYLIGHT
BEGIN:STANDARD
TZOFFSETFROM:-0400
TZOFFSETTO:-0500
TZNAME:EST
DTSTART:20251102T060000
END:STANDARD
BEGIN:DAYLIGHT
TZOFFSETFROM:-0500
TZOFFSETTO:-0400
TZNAME:EDT
DTSTART:20260308T070000
END:DAYLIGHT
BEGIN:STANDARD
TZOFFSETFROM:-0400
TZOFFSETTO:-0500
TZNAME:EST
DTSTART:20261101T060000
END:STANDARD
BEGIN:DAYLIGHT
TZOFFSETFROM:-0500
TZOFFSETTO:-0400
TZNAME:EDT
DTSTART:20270314T070000
END:DAYLIGHT
BEGIN:STANDARD
TZOFFSETFROM:-0400
TZOFFSETTO:-0500
TZNAME:EST
DTSTART:20271107T060000
END:STANDARD
END:VTIMEZONE
BEGIN:VEVENT
DTSTART;TZID=America/New_York:20260518T093000
DTEND;TZID=America/New_York:20260518T103000
DTSTAMP:20260419T202818
CREATED:20250213T160913Z
LAST-MODIFIED:20260319T151102Z
UID:3058-1779096600-1779100200@teamtony.org
SUMMARY:Team Tony Cancer Caregiver Coffee Connection
DESCRIPTION:Team Tony Cancer Foundation recognizes the impact a cancer diagnosis has on everyone – the patient\, their family and their friends. Caring for someone with cancer comes with various emotional\, physical and logistical challenges. While the caregiver is grateful to help and support the individual facing cancer\, he or she may experience emotional strain\, physical exhaustion\, financial stress\, isolation\, and impacts on mental health. \nEnsuring the caregiver gets the support they need is a focus of Team Tony Cancer Foundation. \nHeld on the 3rd Monday of each month\, our Caregiver Coffee Connection will be an opportunity for those caring for a cancer fighter to come together over a cup of coffee or tea and connect with others who understand the unique challenges of caregiving. \nRSVP kelly@teamtony.org or 941-227-4404.
URL:https://teamtony.org/event/team-tony-cancer-caregiver-coffee-connection/
LOCATION:Team Tony Cancer Connection Center\, 3562 S OSPREY AVE\, SARASOTA\, FL\, 34239\, United States
ATTACH;FMTTYPE=image/jpeg:https://teamtony.org/wp-content/uploads/coffee.jpg
ORGANIZER;CN="Team Tony Cancer Foundation":MAILTO:info@teamtony.org
END:VEVENT
BEGIN:VEVENT
DTSTART;TZID=America/New_York:20261122T060000
DTEND;TZID=America/New_York:20261122T140000
DTSTAMP:20260419T202818
CREATED:20220314T200339Z
LAST-MODIFIED:20251215T185747Z
UID:2190-1795327200-1795356000@teamtony.org
SUMMARY:9th Annual Gran Fondo Sarasota
DESCRIPTION:Join us for our 9th Annual Gran Fondo Sarasota!! \nJOIN US NOVEMBER 22nd AT THE FLORIDA FARM BUREAU PAVILION!! \nChoose from four different bike routes that range in distance from 5 miles to 100 miles. Join us after for an Epic Finish Line Party that will include music\, catered food\, and local vendors. \n\n6:00 am Registration/Check In Begins\, Breakfast Available\n7:00 am 2026 Gran Fondo Sarasota 100-mile Gran cyclists begin\n8:00 am 2026 Gran Fondo Sarasota 62-mile Medio cyclists begin\n9:00 am 2026 Gran Fondo Sarasota 33-mile Piccolo cyclists begin\n10:00 am 2026 Gran Fondo Sarasota 5-mile Cruiser Ride Cyclists begin\n11:00 am Lunch
URL:https://teamtony.org/event/9th-annual-gran-fondo-sarasota/
LOCATION:FL Farm Bureau Pavilion\, 7289 Palmer Blvd\, Sarasota\, FL\, 34240\, United States
ATTACH;FMTTYPE=image/png:https://teamtony.org/wp-content/uploads/gfsHorizontal.png
ORGANIZER;CN="Team Tony Cancer Foundation":MAILTO:info@teamtony.org
END:VEVENT
END:VCALENDAR