BEGIN:VCALENDAR
VERSION:2.0
PRODID:-//Team Tony Cancer Foundation - ECPv6.15.20//NONSGML v1.0//EN
CALSCALE:GREGORIAN
METHOD:PUBLISH
X-WR-CALNAME:Team Tony Cancer Foundation
X-ORIGINAL-URL:https://teamtony.org
X-WR-CALDESC:Events for Team Tony Cancer Foundation
REFRESH-INTERVAL;VALUE=DURATION:PT1H
X-Robots-Tag:noindex
X-PUBLISHED-TTL:PT1H
BEGIN:VTIMEZONE
TZID:America/New_York
BEGIN:DAYLIGHT
TZOFFSETFROM:-0500
TZOFFSETTO:-0400
TZNAME:EDT
DTSTART:20230312T070000
END:DAYLIGHT
BEGIN:STANDARD
TZOFFSETFROM:-0400
TZOFFSETTO:-0500
TZNAME:EST
DTSTART:20231105T060000
END:STANDARD
BEGIN:DAYLIGHT
TZOFFSETFROM:-0500
TZOFFSETTO:-0400
TZNAME:EDT
DTSTART:20240310T070000
END:DAYLIGHT
BEGIN:STANDARD
TZOFFSETFROM:-0400
TZOFFSETTO:-0500
TZNAME:EST
DTSTART:20241103T060000
END:STANDARD
BEGIN:DAYLIGHT
TZOFFSETFROM:-0500
TZOFFSETTO:-0400
TZNAME:EDT
DTSTART:20250309T070000
END:DAYLIGHT
BEGIN:STANDARD
TZOFFSETFROM:-0400
TZOFFSETTO:-0500
TZNAME:EST
DTSTART:20251102T060000
END:STANDARD
END:VTIMEZONE
BEGIN:VEVENT
DTSTART;TZID=America/New_York:20240717T180000
DTEND;TZID=America/New_York:20240717T210000
DTSTAMP:20260422T221656
CREATED:20240613T154812Z
LAST-MODIFIED:20240613T154915Z
UID:2852-1721239200-1721250000@teamtony.org
SUMMARY:Guest Bartender Night at Farfelu Wine & Cheese Cafe benefiting Team Tony
DESCRIPTION:Make plans to join us on July 17th at Farfelu Wine & Cheese Cafe in Venice! Our friends from Grand Living at Wellen Park (along with our Executive Director\, Kelly Deam)\, will be participating in a Guest Bartender event benefiting Team Tony!\n\n\nThe evening will include music\, food and a fantastic auction!\n\n\n\n\nFor more information\, visit the website here: https://guestbartender.org/events/qbvf89
URL:https://teamtony.org/event/guest-bartender-night-at-farfelu-wine-cheese-cafe-benefiting-team-tony/
LOCATION:Farfelu Wine & Cheese Cafe\, 266 Tamiami Trail South\, Venice\, FL\, 34285\, United States
END:VEVENT
BEGIN:VEVENT
DTSTART;TZID=America/New_York:20240728T120000
DTEND;TZID=America/New_York:20240728T170000
DTSTAMP:20260422T221656
CREATED:20240611T160226Z
LAST-MODIFIED:20240611T160226Z
UID:2844-1722168000-1722186000@teamtony.org
SUMMARY:SRQ Women's Expo
DESCRIPTION:Bringing together and celebrating local women and businesses\, the SRQ Women’s Expo provides opportunities to learn\, grow and relax! \nTeam Tony is proud to be a beneficiary of this year’s SRQ Women’s Expo being held on Sunday\, July 28th from noon to 5pm at The Ritz Carlton Sarasota. \nTickets start at just $10! \nItinerary: \n\n\n11:30am: Doors are open to attendees.\n\n\n12:30pm: 2 minute commercial begins on stage.\n\n\n1:00pm: Fashion Show Begins.\n\n\n2:00 pm: Panel discussion starts and lunch will be served.\n\n\n3:00 pm: Attendees can enjoy their services throughout the expo floor.\n\n\n5:00 pm Raffle winner will be announced.\n\n\nAges: Open to all ages and genders.\n\n\nWorkshops will be happening throughout the day.\nFor more information\, or to purchase tickets\, please visit the SRQ Women’s Expo website here.
URL:https://teamtony.org/event/srq-womens-expo/
LOCATION:The Ritz Carlton Sarasota\, 1111 Ritz Carlton Dr\, Sarasota\, 34236\, United States
END:VEVENT
END:VCALENDAR