BEGIN:VCALENDAR
VERSION:2.0
PRODID:-//Team Tony Cancer Foundation - ECPv6.15.20//NONSGML v1.0//EN
CALSCALE:GREGORIAN
METHOD:PUBLISH
X-ORIGINAL-URL:https://teamtony.org
X-WR-CALDESC:Events for Team Tony Cancer Foundation
REFRESH-INTERVAL;VALUE=DURATION:PT1H
X-Robots-Tag:noindex
X-PUBLISHED-TTL:PT1H
BEGIN:VTIMEZONE
TZID:America/New_York
BEGIN:DAYLIGHT
TZOFFSETFROM:-0500
TZOFFSETTO:-0400
TZNAME:EDT
DTSTART:20230312T070000
END:DAYLIGHT
BEGIN:STANDARD
TZOFFSETFROM:-0400
TZOFFSETTO:-0500
TZNAME:EST
DTSTART:20231105T060000
END:STANDARD
BEGIN:DAYLIGHT
TZOFFSETFROM:-0500
TZOFFSETTO:-0400
TZNAME:EDT
DTSTART:20240310T070000
END:DAYLIGHT
BEGIN:STANDARD
TZOFFSETFROM:-0400
TZOFFSETTO:-0500
TZNAME:EST
DTSTART:20241103T060000
END:STANDARD
BEGIN:DAYLIGHT
TZOFFSETFROM:-0500
TZOFFSETTO:-0400
TZNAME:EDT
DTSTART:20250309T070000
END:DAYLIGHT
BEGIN:STANDARD
TZOFFSETFROM:-0400
TZOFFSETTO:-0500
TZNAME:EST
DTSTART:20251102T060000
END:STANDARD
END:VTIMEZONE
BEGIN:VEVENT
DTSTART;TZID=America/New_York:20240820T123000
DTEND;TZID=America/New_York:20240820T133000
DTSTAMP:20260422T203201
CREATED:20240102T181755Z
LAST-MODIFIED:20240719T200651Z
UID:2702-1724157000-1724160600@teamtony.org
SUMMARY:2024 Lifestyle Wellness Series: Laughter Yoga
DESCRIPTION:Did you know that as children we laugh over 300 times a day but as adults we laugh only 30 times a day? Scientific studies indicate that laughter may have medically beneficial effects\, particularly to cardiovascular health and mood. Laughter Wellness is a practice involving prolonged voluntary laughter. It is based on the belief that voluntary laughter provides the same physiological and psychological benefits as spontaneous laughter. You won’t want to miss this hysterical experience that will heighten your awareness of the therapeutic and restorative values of joy and laughter. \nJoin us as Kelly Garrett of Tidewell Health presents this special session on Laughter Wellness. \nPlease RSVP to kelly@teamtony.org
URL:https://teamtony.org/event/2024-lifestyle-wellness-series-laughter-yoga/
LOCATION:Team Tony Cancer Connection Center\, 3562 S OSPREY AVE\, SARASOTA\, FL\, 34239\, United States
ORGANIZER;CN="Team Tony Cancer Foundation":MAILTO:info@teamtony.org
END:VEVENT
END:VCALENDAR