BEGIN:VCALENDAR
VERSION:2.0
PRODID:-//Team Tony Cancer Foundation - ECPv6.15.20//NONSGML v1.0//EN
CALSCALE:GREGORIAN
METHOD:PUBLISH
X-WR-CALNAME:Team Tony Cancer Foundation
X-ORIGINAL-URL:https://teamtony.org
X-WR-CALDESC:Events for Team Tony Cancer Foundation
REFRESH-INTERVAL;VALUE=DURATION:PT1H
X-Robots-Tag:noindex
X-PUBLISHED-TTL:PT1H
BEGIN:VTIMEZONE
TZID:America/New_York
BEGIN:DAYLIGHT
TZOFFSETFROM:-0500
TZOFFSETTO:-0400
TZNAME:EDT
DTSTART:20240310T070000
END:DAYLIGHT
BEGIN:STANDARD
TZOFFSETFROM:-0400
TZOFFSETTO:-0500
TZNAME:EST
DTSTART:20241103T060000
END:STANDARD
BEGIN:DAYLIGHT
TZOFFSETFROM:-0500
TZOFFSETTO:-0400
TZNAME:EDT
DTSTART:20250309T070000
END:DAYLIGHT
BEGIN:STANDARD
TZOFFSETFROM:-0400
TZOFFSETTO:-0500
TZNAME:EST
DTSTART:20251102T060000
END:STANDARD
BEGIN:DAYLIGHT
TZOFFSETFROM:-0500
TZOFFSETTO:-0400
TZNAME:EDT
DTSTART:20260308T070000
END:DAYLIGHT
BEGIN:STANDARD
TZOFFSETFROM:-0400
TZOFFSETTO:-0500
TZNAME:EST
DTSTART:20261101T060000
END:STANDARD
END:VTIMEZONE
BEGIN:VEVENT
DTSTART;TZID=America/New_York:20251009T110000
DTEND;TZID=America/New_York:20251009T120000
DTSTAMP:20260419T204840
CREATED:20250903T152910Z
LAST-MODIFIED:20250903T152910Z
UID:3210-1760007600-1760011200@teamtony.org
SUMMARY:Team Tony Lifestyle Wellness Series: Living With Ease - How Planning Ahead Can Lighten Your Journey
DESCRIPTION:Join Jen Hensley of Hensley Law Offices as she shares practical and inspiring insights on how planning ahead—through tools like wills\, trusts\, and other resources—can lift a huge weight off your shoulders and give you the freedom to focus on healing and living fully. Her upbeat and approachable style makes even the toughest topics easier to understand\, so you’ll leave feeling more informed\, supported\, and empowered. \nThis event is a hybrid event held at our Cancer Connection Center (3562 S Osprey Ave\, Suite C\, Sarasota\, FL 34239) or via Zoom. \nRSVP to kelly@teamtony.org or (941) 227-4404 by October 7.
URL:https://teamtony.org/event/team-tony-lifestyle-wellness-series-living-with-ease-how-planning-ahead-can-lighten-your-journey/
LOCATION:Team Tony Cancer Connection Center\, 3562 S OSPREY AVE\, SARASOTA\, FL\, 34239\, United States
ATTACH;FMTTYPE=image/png:https://teamtony.org/wp-content/uploads/Jen-Hensley-Oct-2025-LWS.png
ORGANIZER;CN="Team Tony Cancer Foundation":MAILTO:info@teamtony.org
END:VEVENT
END:VCALENDAR